BEGIN:VCALENDAR
VERSION:2.0
PRODID:-//ZeitGeist - Braunsfeld - ECPv6.6.3//NONSGML v1.0//EN
CALSCALE:GREGORIAN
METHOD:PUBLISH
X-ORIGINAL-URL:https://zeitgeist-braunsfeld.de
X-WR-CALDESC:Veranstaltungen für ZeitGeist - Braunsfeld
REFRESH-INTERVAL;VALUE=DURATION:PT1H
X-Robots-Tag:noindex
X-PUBLISHED-TTL:PT1H
BEGIN:VTIMEZONE
TZID:Europe/Berlin
BEGIN:DAYLIGHT
TZOFFSETFROM:+0100
TZOFFSETTO:+0200
TZNAME:CEST
DTSTART:20290325T010000
END:DAYLIGHT
BEGIN:STANDARD
TZOFFSETFROM:+0200
TZOFFSETTO:+0100
TZNAME:CET
DTSTART:20291028T010000
END:STANDARD
BEGIN:DAYLIGHT
TZOFFSETFROM:+0100
TZOFFSETTO:+0200
TZNAME:CEST
DTSTART:20300331T010000
END:DAYLIGHT
BEGIN:STANDARD
TZOFFSETFROM:+0200
TZOFFSETTO:+0100
TZNAME:CET
DTSTART:20301027T010000
END:STANDARD
END:VTIMEZONE
BEGIN:VEVENT
DTSTART;TZID=Europe/Berlin:20291031T170000
DTEND;TZID=Europe/Berlin:20291031T190000
DTSTAMP:20260421T101709
CREATED:20251223T132831Z
LAST-MODIFIED:20251223T132952Z
UID:10004008-1888160400-1888167600@zeitgeist-braunsfeld.de
SUMMARY:Zeichnen für Einsteiger
DESCRIPTION:Einführung in die Kunst des Zeichnens.✍🏻 Mit verschiedenen Techniken und Malmaterialien zum eigenen Kunstwerk.   Kursleitung: Helga Helbig
URL:https://zeitgeist-braunsfeld.de/event/zeichnen-fuer-einsteiger-5-4-2/2029-10-31/
CATEGORIES:Kreativ,Kreativ,Kreativ - Treff
ATTACH;FMTTYPE=image/jpeg:https://zeitgeist-braunsfeld.de/wp-content/uploads/2024/01/crayons-2774504_1920.jpg
END:VEVENT
BEGIN:VEVENT
DTSTART;TZID=Europe/Berlin:20291107T100000
DTEND;TZID=Europe/Berlin:20291107T120000
DTSTAMP:20260421T101709
CREATED:20251223T131913Z
LAST-MODIFIED:20251223T132633Z
UID:10003421-1888740000-1888747200@zeitgeist-braunsfeld.de
SUMMARY:Offener Treff
DESCRIPTION:In Kooperation mit dem Senioren-Netzwerk-Braunsfeld\, laden wir jeden Mittwoch*) von 10:00 Uhr bis 12:00 Uhr zu einem offenen Treff in unseren Kulturraum ein. \nSchauen Sie vorbei\, der Offene Treff ist für alle offen\, auch für Nicht-Mitglieder! \nHier trifft man sich zum Verweilen und zum Gesprächsaustausch. \nWährend des Offenen Treffs haben Sie außerdem die Gelegenheit unsere aktuelle Ausstellung anzusehen. \nDen Besuch beim Offenen Treff kann man gut mit dem Einkauf mittwochs auf dem Braunsfelder Markt verbinden\, der mit Nahrungs- und Genussmitteln lockt. \nVorbeikommen                   Gespräche                           Kaffeepause                                    Ausstellung betrachten \n  \n*) nicht an Feiertagen
URL:https://zeitgeist-braunsfeld.de/event/offener-treff-2-2/2029-11-07/
CATEGORIES:Offener Treff,Treffen und Kurse
ATTACH;FMTTYPE=image/jpeg:https://zeitgeist-braunsfeld.de/wp-content/uploads/2023/08/Webaufnahme_8-8-2023_14139_.jpeg
END:VEVENT
BEGIN:VEVENT
DTSTART;TZID=Europe/Berlin:20291107T170000
DTEND;TZID=Europe/Berlin:20291107T190000
DTSTAMP:20260421T101709
CREATED:20251223T132831Z
LAST-MODIFIED:20251223T132952Z
UID:10004009-1888765200-1888772400@zeitgeist-braunsfeld.de
SUMMARY:Zeichnen für Einsteiger
DESCRIPTION:Einführung in die Kunst des Zeichnens.✍🏻 Mit verschiedenen Techniken und Malmaterialien zum eigenen Kunstwerk.   Kursleitung: Helga Helbig
URL:https://zeitgeist-braunsfeld.de/event/zeichnen-fuer-einsteiger-5-4-2/2029-11-07/
CATEGORIES:Kreativ,Kreativ,Kreativ - Treff
ATTACH;FMTTYPE=image/jpeg:https://zeitgeist-braunsfeld.de/wp-content/uploads/2024/01/crayons-2774504_1920.jpg
END:VEVENT
BEGIN:VEVENT
DTSTART;TZID=Europe/Berlin:20291107T190000
DTEND;TZID=Europe/Berlin:20291107T203000
DTSTAMP:20260421T101709
CREATED:20250729T134239Z
LAST-MODIFIED:20250901T184833Z
UID:10003744-1888772400-1888777800@zeitgeist-braunsfeld.de
SUMMARY:Börsenstammtisch
DESCRIPTION:  \nJeden ersten Mittwoch eines Monats um 19:00 Uhr trifft sich der Börsenstammtisch zum Austausch von Finanz- und Börsenwissen.\nInsbesondere das langfristige Investieren in Qualitätsaktien soll ein Schwerpunkt sein.
URL:https://zeitgeist-braunsfeld.de/event/boersenstammtisch-2-2-2-2-2-2-2/2029-11-07/
CATEGORIES:Treffen und Kurse
ATTACH;FMTTYPE=image/jpeg:https://zeitgeist-braunsfeld.de/wp-content/uploads/2024/01/stock-exchange-680583_1280-e1705308753131.jpg
END:VEVENT
BEGIN:VEVENT
DTSTART;TZID=Europe/Berlin:20291112T190000
DTEND;TZID=Europe/Berlin:20291112T190000
DTSTAMP:20260421T101709
CREATED:20240113T223423Z
LAST-MODIFIED:20240213T184056Z
UID:10003449-1889204400-1889204400@zeitgeist-braunsfeld.de
SUMMARY:Philosophie im Viertel
DESCRIPTION:Philosophie-Kreis \njeden 2. Montag eines Monats um 19:00 Uhr
URL:https://zeitgeist-braunsfeld.de/event/philosophie-kreis/2029-11-12/
CATEGORIES:Literatur- und Philosophie-Kreise,Treffen und Kurse
ATTACH;FMTTYPE=image/jpeg:https://zeitgeist-braunsfeld.de/wp-content/uploads/2024/01/spotted-eagle-owl-3003320_1920.jpg
END:VEVENT
BEGIN:VEVENT
DTSTART;TZID=Europe/Berlin:20291114T100000
DTEND;TZID=Europe/Berlin:20291114T120000
DTSTAMP:20260421T101709
CREATED:20251223T131913Z
LAST-MODIFIED:20251223T132633Z
UID:10003424-1889344800-1889352000@zeitgeist-braunsfeld.de
SUMMARY:Offener Treff
DESCRIPTION:In Kooperation mit dem Senioren-Netzwerk-Braunsfeld\, laden wir jeden Mittwoch*) von 10:00 Uhr bis 12:00 Uhr zu einem offenen Treff in unseren Kulturraum ein. \nSchauen Sie vorbei\, der Offene Treff ist für alle offen\, auch für Nicht-Mitglieder! \nHier trifft man sich zum Verweilen und zum Gesprächsaustausch. \nWährend des Offenen Treffs haben Sie außerdem die Gelegenheit unsere aktuelle Ausstellung anzusehen. \nDen Besuch beim Offenen Treff kann man gut mit dem Einkauf mittwochs auf dem Braunsfelder Markt verbinden\, der mit Nahrungs- und Genussmitteln lockt. \nVorbeikommen                   Gespräche                           Kaffeepause                                    Ausstellung betrachten \n  \n*) nicht an Feiertagen
URL:https://zeitgeist-braunsfeld.de/event/offener-treff-2-2/2029-11-14/
CATEGORIES:Offener Treff,Treffen und Kurse
ATTACH;FMTTYPE=image/jpeg:https://zeitgeist-braunsfeld.de/wp-content/uploads/2023/08/Webaufnahme_8-8-2023_14139_.jpeg
END:VEVENT
BEGIN:VEVENT
DTSTART;TZID=Europe/Berlin:20291114T170000
DTEND;TZID=Europe/Berlin:20291114T190000
DTSTAMP:20260421T101709
CREATED:20251223T132831Z
LAST-MODIFIED:20251223T132952Z
UID:10004010-1889370000-1889377200@zeitgeist-braunsfeld.de
SUMMARY:Zeichnen für Einsteiger
DESCRIPTION:Einführung in die Kunst des Zeichnens.✍🏻 Mit verschiedenen Techniken und Malmaterialien zum eigenen Kunstwerk.   Kursleitung: Helga Helbig
URL:https://zeitgeist-braunsfeld.de/event/zeichnen-fuer-einsteiger-5-4-2/2029-11-14/
CATEGORIES:Kreativ,Kreativ,Kreativ - Treff
ATTACH;FMTTYPE=image/jpeg:https://zeitgeist-braunsfeld.de/wp-content/uploads/2024/01/crayons-2774504_1920.jpg
END:VEVENT
BEGIN:VEVENT
DTSTART;TZID=Europe/Berlin:20291121T100000
DTEND;TZID=Europe/Berlin:20291121T120000
DTSTAMP:20260421T101709
CREATED:20251223T131913Z
LAST-MODIFIED:20251223T132633Z
UID:10003427-1889949600-1889956800@zeitgeist-braunsfeld.de
SUMMARY:Offener Treff
DESCRIPTION:In Kooperation mit dem Senioren-Netzwerk-Braunsfeld\, laden wir jeden Mittwoch*) von 10:00 Uhr bis 12:00 Uhr zu einem offenen Treff in unseren Kulturraum ein. \nSchauen Sie vorbei\, der Offene Treff ist für alle offen\, auch für Nicht-Mitglieder! \nHier trifft man sich zum Verweilen und zum Gesprächsaustausch. \nWährend des Offenen Treffs haben Sie außerdem die Gelegenheit unsere aktuelle Ausstellung anzusehen. \nDen Besuch beim Offenen Treff kann man gut mit dem Einkauf mittwochs auf dem Braunsfelder Markt verbinden\, der mit Nahrungs- und Genussmitteln lockt. \nVorbeikommen                   Gespräche                           Kaffeepause                                    Ausstellung betrachten \n  \n*) nicht an Feiertagen
URL:https://zeitgeist-braunsfeld.de/event/offener-treff-2-2/2029-11-21/
CATEGORIES:Offener Treff,Treffen und Kurse
ATTACH;FMTTYPE=image/jpeg:https://zeitgeist-braunsfeld.de/wp-content/uploads/2023/08/Webaufnahme_8-8-2023_14139_.jpeg
END:VEVENT
BEGIN:VEVENT
DTSTART;TZID=Europe/Berlin:20291121T170000
DTEND;TZID=Europe/Berlin:20291121T190000
DTSTAMP:20260421T101709
CREATED:20251223T132831Z
LAST-MODIFIED:20251223T132952Z
UID:10004011-1889974800-1889982000@zeitgeist-braunsfeld.de
SUMMARY:Zeichnen für Einsteiger
DESCRIPTION:Einführung in die Kunst des Zeichnens.✍🏻 Mit verschiedenen Techniken und Malmaterialien zum eigenen Kunstwerk.   Kursleitung: Helga Helbig
URL:https://zeitgeist-braunsfeld.de/event/zeichnen-fuer-einsteiger-5-4-2/2029-11-21/
CATEGORIES:Kreativ,Kreativ,Kreativ - Treff
ATTACH;FMTTYPE=image/jpeg:https://zeitgeist-braunsfeld.de/wp-content/uploads/2024/01/crayons-2774504_1920.jpg
END:VEVENT
BEGIN:VEVENT
DTSTART;TZID=Europe/Berlin:20291128T100000
DTEND;TZID=Europe/Berlin:20291128T120000
DTSTAMP:20260421T101709
CREATED:20251223T131913Z
LAST-MODIFIED:20251223T132633Z
UID:10003432-1890554400-1890561600@zeitgeist-braunsfeld.de
SUMMARY:Offener Treff
DESCRIPTION:In Kooperation mit dem Senioren-Netzwerk-Braunsfeld\, laden wir jeden Mittwoch*) von 10:00 Uhr bis 12:00 Uhr zu einem offenen Treff in unseren Kulturraum ein. \nSchauen Sie vorbei\, der Offene Treff ist für alle offen\, auch für Nicht-Mitglieder! \nHier trifft man sich zum Verweilen und zum Gesprächsaustausch. \nWährend des Offenen Treffs haben Sie außerdem die Gelegenheit unsere aktuelle Ausstellung anzusehen. \nDen Besuch beim Offenen Treff kann man gut mit dem Einkauf mittwochs auf dem Braunsfelder Markt verbinden\, der mit Nahrungs- und Genussmitteln lockt. \nVorbeikommen                   Gespräche                           Kaffeepause                                    Ausstellung betrachten \n  \n*) nicht an Feiertagen
URL:https://zeitgeist-braunsfeld.de/event/offener-treff-2-2/2029-11-28/
CATEGORIES:Offener Treff,Treffen und Kurse
ATTACH;FMTTYPE=image/jpeg:https://zeitgeist-braunsfeld.de/wp-content/uploads/2023/08/Webaufnahme_8-8-2023_14139_.jpeg
END:VEVENT
BEGIN:VEVENT
DTSTART;TZID=Europe/Berlin:20291128T170000
DTEND;TZID=Europe/Berlin:20291128T190000
DTSTAMP:20260421T101709
CREATED:20251223T132831Z
LAST-MODIFIED:20251223T132952Z
UID:10004012-1890579600-1890586800@zeitgeist-braunsfeld.de
SUMMARY:Zeichnen für Einsteiger
DESCRIPTION:Einführung in die Kunst des Zeichnens.✍🏻 Mit verschiedenen Techniken und Malmaterialien zum eigenen Kunstwerk.   Kursleitung: Helga Helbig
URL:https://zeitgeist-braunsfeld.de/event/zeichnen-fuer-einsteiger-5-4-2/2029-11-28/
CATEGORIES:Kreativ,Kreativ,Kreativ - Treff
ATTACH;FMTTYPE=image/jpeg:https://zeitgeist-braunsfeld.de/wp-content/uploads/2024/01/crayons-2774504_1920.jpg
END:VEVENT
BEGIN:VEVENT
DTSTART;TZID=Europe/Berlin:20291205T100000
DTEND;TZID=Europe/Berlin:20291205T120000
DTSTAMP:20260421T101709
CREATED:20251223T131913Z
LAST-MODIFIED:20251223T132633Z
UID:10004159-1891159200-1891166400@zeitgeist-braunsfeld.de
SUMMARY:Offener Treff
DESCRIPTION:In Kooperation mit dem Senioren-Netzwerk-Braunsfeld\, laden wir jeden Mittwoch*) von 10:00 Uhr bis 12:00 Uhr zu einem offenen Treff in unseren Kulturraum ein. \nSchauen Sie vorbei\, der Offene Treff ist für alle offen\, auch für Nicht-Mitglieder! \nHier trifft man sich zum Verweilen und zum Gesprächsaustausch. \nWährend des Offenen Treffs haben Sie außerdem die Gelegenheit unsere aktuelle Ausstellung anzusehen. \nDen Besuch beim Offenen Treff kann man gut mit dem Einkauf mittwochs auf dem Braunsfelder Markt verbinden\, der mit Nahrungs- und Genussmitteln lockt. \nVorbeikommen                   Gespräche                           Kaffeepause                                    Ausstellung betrachten \n  \n*) nicht an Feiertagen
URL:https://zeitgeist-braunsfeld.de/event/offener-treff-2-2/2029-12-05/
CATEGORIES:Offener Treff,Treffen und Kurse
ATTACH;FMTTYPE=image/jpeg:https://zeitgeist-braunsfeld.de/wp-content/uploads/2023/08/Webaufnahme_8-8-2023_14139_.jpeg
END:VEVENT
BEGIN:VEVENT
DTSTART;TZID=Europe/Berlin:20291205T170000
DTEND;TZID=Europe/Berlin:20291205T190000
DTSTAMP:20260421T101709
CREATED:20251223T132831Z
LAST-MODIFIED:20251223T132952Z
UID:10004013-1891184400-1891191600@zeitgeist-braunsfeld.de
SUMMARY:Zeichnen für Einsteiger
DESCRIPTION:Einführung in die Kunst des Zeichnens.✍🏻 Mit verschiedenen Techniken und Malmaterialien zum eigenen Kunstwerk.   Kursleitung: Helga Helbig
URL:https://zeitgeist-braunsfeld.de/event/zeichnen-fuer-einsteiger-5-4-2/2029-12-05/
CATEGORIES:Kreativ,Kreativ,Kreativ - Treff
ATTACH;FMTTYPE=image/jpeg:https://zeitgeist-braunsfeld.de/wp-content/uploads/2024/01/crayons-2774504_1920.jpg
END:VEVENT
BEGIN:VEVENT
DTSTART;TZID=Europe/Berlin:20291205T190000
DTEND;TZID=Europe/Berlin:20291205T203000
DTSTAMP:20260421T101709
CREATED:20250729T134239Z
LAST-MODIFIED:20250901T184833Z
UID:10003745-1891191600-1891197000@zeitgeist-braunsfeld.de
SUMMARY:Börsenstammtisch
DESCRIPTION:  \nJeden ersten Mittwoch eines Monats um 19:00 Uhr trifft sich der Börsenstammtisch zum Austausch von Finanz- und Börsenwissen.\nInsbesondere das langfristige Investieren in Qualitätsaktien soll ein Schwerpunkt sein.
URL:https://zeitgeist-braunsfeld.de/event/boersenstammtisch-2-2-2-2-2-2-2/2029-12-05/
CATEGORIES:Treffen und Kurse
ATTACH;FMTTYPE=image/jpeg:https://zeitgeist-braunsfeld.de/wp-content/uploads/2024/01/stock-exchange-680583_1280-e1705308753131.jpg
END:VEVENT
BEGIN:VEVENT
DTSTART;TZID=Europe/Berlin:20291210T190000
DTEND;TZID=Europe/Berlin:20291210T190000
DTSTAMP:20260421T101709
CREATED:20240113T223423Z
LAST-MODIFIED:20240213T184056Z
UID:10003450-1891623600-1891623600@zeitgeist-braunsfeld.de
SUMMARY:Philosophie im Viertel
DESCRIPTION:Philosophie-Kreis \njeden 2. Montag eines Monats um 19:00 Uhr
URL:https://zeitgeist-braunsfeld.de/event/philosophie-kreis/2029-12-10/
CATEGORIES:Literatur- und Philosophie-Kreise,Treffen und Kurse
ATTACH;FMTTYPE=image/jpeg:https://zeitgeist-braunsfeld.de/wp-content/uploads/2024/01/spotted-eagle-owl-3003320_1920.jpg
END:VEVENT
BEGIN:VEVENT
DTSTART;TZID=Europe/Berlin:20291212T100000
DTEND;TZID=Europe/Berlin:20291212T120000
DTSTAMP:20260421T101709
CREATED:20251223T131913Z
LAST-MODIFIED:20251223T132633Z
UID:10004160-1891764000-1891771200@zeitgeist-braunsfeld.de
SUMMARY:Offener Treff
DESCRIPTION:In Kooperation mit dem Senioren-Netzwerk-Braunsfeld\, laden wir jeden Mittwoch*) von 10:00 Uhr bis 12:00 Uhr zu einem offenen Treff in unseren Kulturraum ein. \nSchauen Sie vorbei\, der Offene Treff ist für alle offen\, auch für Nicht-Mitglieder! \nHier trifft man sich zum Verweilen und zum Gesprächsaustausch. \nWährend des Offenen Treffs haben Sie außerdem die Gelegenheit unsere aktuelle Ausstellung anzusehen. \nDen Besuch beim Offenen Treff kann man gut mit dem Einkauf mittwochs auf dem Braunsfelder Markt verbinden\, der mit Nahrungs- und Genussmitteln lockt. \nVorbeikommen                   Gespräche                           Kaffeepause                                    Ausstellung betrachten \n  \n*) nicht an Feiertagen
URL:https://zeitgeist-braunsfeld.de/event/offener-treff-2-2/2029-12-12/
CATEGORIES:Offener Treff,Treffen und Kurse
ATTACH;FMTTYPE=image/jpeg:https://zeitgeist-braunsfeld.de/wp-content/uploads/2023/08/Webaufnahme_8-8-2023_14139_.jpeg
END:VEVENT
BEGIN:VEVENT
DTSTART;TZID=Europe/Berlin:20291212T170000
DTEND;TZID=Europe/Berlin:20291212T190000
DTSTAMP:20260421T101709
CREATED:20251223T132831Z
LAST-MODIFIED:20251223T132952Z
UID:10004014-1891789200-1891796400@zeitgeist-braunsfeld.de
SUMMARY:Zeichnen für Einsteiger
DESCRIPTION:Einführung in die Kunst des Zeichnens.✍🏻 Mit verschiedenen Techniken und Malmaterialien zum eigenen Kunstwerk.   Kursleitung: Helga Helbig
URL:https://zeitgeist-braunsfeld.de/event/zeichnen-fuer-einsteiger-5-4-2/2029-12-12/
CATEGORIES:Kreativ,Kreativ,Kreativ - Treff
ATTACH;FMTTYPE=image/jpeg:https://zeitgeist-braunsfeld.de/wp-content/uploads/2024/01/crayons-2774504_1920.jpg
END:VEVENT
BEGIN:VEVENT
DTSTART;TZID=Europe/Berlin:20291219T100000
DTEND;TZID=Europe/Berlin:20291219T120000
DTSTAMP:20260421T101709
CREATED:20251223T131913Z
LAST-MODIFIED:20251223T132633Z
UID:10004161-1892368800-1892376000@zeitgeist-braunsfeld.de
SUMMARY:Offener Treff
DESCRIPTION:In Kooperation mit dem Senioren-Netzwerk-Braunsfeld\, laden wir jeden Mittwoch*) von 10:00 Uhr bis 12:00 Uhr zu einem offenen Treff in unseren Kulturraum ein. \nSchauen Sie vorbei\, der Offene Treff ist für alle offen\, auch für Nicht-Mitglieder! \nHier trifft man sich zum Verweilen und zum Gesprächsaustausch. \nWährend des Offenen Treffs haben Sie außerdem die Gelegenheit unsere aktuelle Ausstellung anzusehen. \nDen Besuch beim Offenen Treff kann man gut mit dem Einkauf mittwochs auf dem Braunsfelder Markt verbinden\, der mit Nahrungs- und Genussmitteln lockt. \nVorbeikommen                   Gespräche                           Kaffeepause                                    Ausstellung betrachten \n  \n*) nicht an Feiertagen
URL:https://zeitgeist-braunsfeld.de/event/offener-treff-2-2/2029-12-19/
CATEGORIES:Offener Treff,Treffen und Kurse
ATTACH;FMTTYPE=image/jpeg:https://zeitgeist-braunsfeld.de/wp-content/uploads/2023/08/Webaufnahme_8-8-2023_14139_.jpeg
END:VEVENT
BEGIN:VEVENT
DTSTART;TZID=Europe/Berlin:20291219T170000
DTEND;TZID=Europe/Berlin:20291219T190000
DTSTAMP:20260421T101709
CREATED:20251223T132831Z
LAST-MODIFIED:20251223T132952Z
UID:10004015-1892394000-1892401200@zeitgeist-braunsfeld.de
SUMMARY:Zeichnen für Einsteiger
DESCRIPTION:Einführung in die Kunst des Zeichnens.✍🏻 Mit verschiedenen Techniken und Malmaterialien zum eigenen Kunstwerk.   Kursleitung: Helga Helbig
URL:https://zeitgeist-braunsfeld.de/event/zeichnen-fuer-einsteiger-5-4-2/2029-12-19/
CATEGORIES:Kreativ,Kreativ,Kreativ - Treff
ATTACH;FMTTYPE=image/jpeg:https://zeitgeist-braunsfeld.de/wp-content/uploads/2024/01/crayons-2774504_1920.jpg
END:VEVENT
BEGIN:VEVENT
DTSTART;TZID=Europe/Berlin:20291226T100000
DTEND;TZID=Europe/Berlin:20291226T120000
DTSTAMP:20260421T101709
CREATED:20251223T131913Z
LAST-MODIFIED:20251223T132633Z
UID:10004162-1892973600-1892980800@zeitgeist-braunsfeld.de
SUMMARY:Offener Treff
DESCRIPTION:In Kooperation mit dem Senioren-Netzwerk-Braunsfeld\, laden wir jeden Mittwoch*) von 10:00 Uhr bis 12:00 Uhr zu einem offenen Treff in unseren Kulturraum ein. \nSchauen Sie vorbei\, der Offene Treff ist für alle offen\, auch für Nicht-Mitglieder! \nHier trifft man sich zum Verweilen und zum Gesprächsaustausch. \nWährend des Offenen Treffs haben Sie außerdem die Gelegenheit unsere aktuelle Ausstellung anzusehen. \nDen Besuch beim Offenen Treff kann man gut mit dem Einkauf mittwochs auf dem Braunsfelder Markt verbinden\, der mit Nahrungs- und Genussmitteln lockt. \nVorbeikommen                   Gespräche                           Kaffeepause                                    Ausstellung betrachten \n  \n*) nicht an Feiertagen
URL:https://zeitgeist-braunsfeld.de/event/offener-treff-2-2/2029-12-26/
CATEGORIES:Offener Treff,Treffen und Kurse
ATTACH;FMTTYPE=image/jpeg:https://zeitgeist-braunsfeld.de/wp-content/uploads/2023/08/Webaufnahme_8-8-2023_14139_.jpeg
END:VEVENT
BEGIN:VEVENT
DTSTART;TZID=Europe/Berlin:20291226T170000
DTEND;TZID=Europe/Berlin:20291226T190000
DTSTAMP:20260421T101709
CREATED:20251223T132831Z
LAST-MODIFIED:20251223T132952Z
UID:10004016-1892998800-1893006000@zeitgeist-braunsfeld.de
SUMMARY:Zeichnen für Einsteiger
DESCRIPTION:Einführung in die Kunst des Zeichnens.✍🏻 Mit verschiedenen Techniken und Malmaterialien zum eigenen Kunstwerk.   Kursleitung: Helga Helbig
URL:https://zeitgeist-braunsfeld.de/event/zeichnen-fuer-einsteiger-5-4-2/2029-12-26/
CATEGORIES:Kreativ,Kreativ,Kreativ - Treff
ATTACH;FMTTYPE=image/jpeg:https://zeitgeist-braunsfeld.de/wp-content/uploads/2024/01/crayons-2774504_1920.jpg
END:VEVENT
BEGIN:VEVENT
DTSTART;TZID=Europe/Berlin:20300102T100000
DTEND;TZID=Europe/Berlin:20300102T120000
DTSTAMP:20260421T101709
CREATED:20251223T131913Z
LAST-MODIFIED:20251223T132633Z
UID:10004163-1893578400-1893585600@zeitgeist-braunsfeld.de
SUMMARY:Offener Treff
DESCRIPTION:In Kooperation mit dem Senioren-Netzwerk-Braunsfeld\, laden wir jeden Mittwoch*) von 10:00 Uhr bis 12:00 Uhr zu einem offenen Treff in unseren Kulturraum ein. \nSchauen Sie vorbei\, der Offene Treff ist für alle offen\, auch für Nicht-Mitglieder! \nHier trifft man sich zum Verweilen und zum Gesprächsaustausch. \nWährend des Offenen Treffs haben Sie außerdem die Gelegenheit unsere aktuelle Ausstellung anzusehen. \nDen Besuch beim Offenen Treff kann man gut mit dem Einkauf mittwochs auf dem Braunsfelder Markt verbinden\, der mit Nahrungs- und Genussmitteln lockt. \nVorbeikommen                   Gespräche                           Kaffeepause                                    Ausstellung betrachten \n  \n*) nicht an Feiertagen
URL:https://zeitgeist-braunsfeld.de/event/offener-treff-2-2/2030-01-02/
CATEGORIES:Offener Treff,Treffen und Kurse
ATTACH;FMTTYPE=image/jpeg:https://zeitgeist-braunsfeld.de/wp-content/uploads/2023/08/Webaufnahme_8-8-2023_14139_.jpeg
END:VEVENT
BEGIN:VEVENT
DTSTART;TZID=Europe/Berlin:20300102T170000
DTEND;TZID=Europe/Berlin:20300102T190000
DTSTAMP:20260421T101709
CREATED:20251223T132831Z
LAST-MODIFIED:20251223T132952Z
UID:10004017-1893603600-1893610800@zeitgeist-braunsfeld.de
SUMMARY:Zeichnen für Einsteiger
DESCRIPTION:Einführung in die Kunst des Zeichnens.✍🏻 Mit verschiedenen Techniken und Malmaterialien zum eigenen Kunstwerk.   Kursleitung: Helga Helbig
URL:https://zeitgeist-braunsfeld.de/event/zeichnen-fuer-einsteiger-5-4-2/2030-01-02/
CATEGORIES:Kreativ,Kreativ,Kreativ - Treff
ATTACH;FMTTYPE=image/jpeg:https://zeitgeist-braunsfeld.de/wp-content/uploads/2024/01/crayons-2774504_1920.jpg
END:VEVENT
BEGIN:VEVENT
DTSTART;TZID=Europe/Berlin:20300102T190000
DTEND;TZID=Europe/Berlin:20300102T203000
DTSTAMP:20260421T101709
CREATED:20250729T134239Z
LAST-MODIFIED:20250901T184833Z
UID:10003746-1893610800-1893616200@zeitgeist-braunsfeld.de
SUMMARY:Börsenstammtisch
DESCRIPTION:  \nJeden ersten Mittwoch eines Monats um 19:00 Uhr trifft sich der Börsenstammtisch zum Austausch von Finanz- und Börsenwissen.\nInsbesondere das langfristige Investieren in Qualitätsaktien soll ein Schwerpunkt sein.
URL:https://zeitgeist-braunsfeld.de/event/boersenstammtisch-2-2-2-2-2-2-2/2030-01-02/
CATEGORIES:Treffen und Kurse
ATTACH;FMTTYPE=image/jpeg:https://zeitgeist-braunsfeld.de/wp-content/uploads/2024/01/stock-exchange-680583_1280-e1705308753131.jpg
END:VEVENT
BEGIN:VEVENT
DTSTART;TZID=Europe/Berlin:20300109T100000
DTEND;TZID=Europe/Berlin:20300109T120000
DTSTAMP:20260421T101709
CREATED:20251223T131913Z
LAST-MODIFIED:20251223T132633Z
UID:10004164-1894183200-1894190400@zeitgeist-braunsfeld.de
SUMMARY:Offener Treff
DESCRIPTION:In Kooperation mit dem Senioren-Netzwerk-Braunsfeld\, laden wir jeden Mittwoch*) von 10:00 Uhr bis 12:00 Uhr zu einem offenen Treff in unseren Kulturraum ein. \nSchauen Sie vorbei\, der Offene Treff ist für alle offen\, auch für Nicht-Mitglieder! \nHier trifft man sich zum Verweilen und zum Gesprächsaustausch. \nWährend des Offenen Treffs haben Sie außerdem die Gelegenheit unsere aktuelle Ausstellung anzusehen. \nDen Besuch beim Offenen Treff kann man gut mit dem Einkauf mittwochs auf dem Braunsfelder Markt verbinden\, der mit Nahrungs- und Genussmitteln lockt. \nVorbeikommen                   Gespräche                           Kaffeepause                                    Ausstellung betrachten \n  \n*) nicht an Feiertagen
URL:https://zeitgeist-braunsfeld.de/event/offener-treff-2-2/2030-01-09/
CATEGORIES:Offener Treff,Treffen und Kurse
ATTACH;FMTTYPE=image/jpeg:https://zeitgeist-braunsfeld.de/wp-content/uploads/2023/08/Webaufnahme_8-8-2023_14139_.jpeg
END:VEVENT
BEGIN:VEVENT
DTSTART;TZID=Europe/Berlin:20300109T170000
DTEND;TZID=Europe/Berlin:20300109T190000
DTSTAMP:20260421T101709
CREATED:20251223T132831Z
LAST-MODIFIED:20251223T132952Z
UID:10004018-1894208400-1894215600@zeitgeist-braunsfeld.de
SUMMARY:Zeichnen für Einsteiger
DESCRIPTION:Einführung in die Kunst des Zeichnens.✍🏻 Mit verschiedenen Techniken und Malmaterialien zum eigenen Kunstwerk.   Kursleitung: Helga Helbig
URL:https://zeitgeist-braunsfeld.de/event/zeichnen-fuer-einsteiger-5-4-2/2030-01-09/
CATEGORIES:Kreativ,Kreativ,Kreativ - Treff
ATTACH;FMTTYPE=image/jpeg:https://zeitgeist-braunsfeld.de/wp-content/uploads/2024/01/crayons-2774504_1920.jpg
END:VEVENT
BEGIN:VEVENT
DTSTART;TZID=Europe/Berlin:20300114T190000
DTEND;TZID=Europe/Berlin:20300114T190000
DTSTAMP:20260421T101709
CREATED:20240113T223423Z
LAST-MODIFIED:20240213T184056Z
UID:10003464-1894647600-1894647600@zeitgeist-braunsfeld.de
SUMMARY:Philosophie im Viertel
DESCRIPTION:Philosophie-Kreis \njeden 2. Montag eines Monats um 19:00 Uhr
URL:https://zeitgeist-braunsfeld.de/event/philosophie-kreis/2030-01-14/
CATEGORIES:Literatur- und Philosophie-Kreise,Treffen und Kurse
ATTACH;FMTTYPE=image/jpeg:https://zeitgeist-braunsfeld.de/wp-content/uploads/2024/01/spotted-eagle-owl-3003320_1920.jpg
END:VEVENT
BEGIN:VEVENT
DTSTART;TZID=Europe/Berlin:20300116T100000
DTEND;TZID=Europe/Berlin:20300116T120000
DTSTAMP:20260421T101709
CREATED:20251223T131913Z
LAST-MODIFIED:20251223T132633Z
UID:10004165-1894788000-1894795200@zeitgeist-braunsfeld.de
SUMMARY:Offener Treff
DESCRIPTION:In Kooperation mit dem Senioren-Netzwerk-Braunsfeld\, laden wir jeden Mittwoch*) von 10:00 Uhr bis 12:00 Uhr zu einem offenen Treff in unseren Kulturraum ein. \nSchauen Sie vorbei\, der Offene Treff ist für alle offen\, auch für Nicht-Mitglieder! \nHier trifft man sich zum Verweilen und zum Gesprächsaustausch. \nWährend des Offenen Treffs haben Sie außerdem die Gelegenheit unsere aktuelle Ausstellung anzusehen. \nDen Besuch beim Offenen Treff kann man gut mit dem Einkauf mittwochs auf dem Braunsfelder Markt verbinden\, der mit Nahrungs- und Genussmitteln lockt. \nVorbeikommen                   Gespräche                           Kaffeepause                                    Ausstellung betrachten \n  \n*) nicht an Feiertagen
URL:https://zeitgeist-braunsfeld.de/event/offener-treff-2-2/2030-01-16/
CATEGORIES:Offener Treff,Treffen und Kurse
ATTACH;FMTTYPE=image/jpeg:https://zeitgeist-braunsfeld.de/wp-content/uploads/2023/08/Webaufnahme_8-8-2023_14139_.jpeg
END:VEVENT
BEGIN:VEVENT
DTSTART;TZID=Europe/Berlin:20300116T170000
DTEND;TZID=Europe/Berlin:20300116T190000
DTSTAMP:20260421T101709
CREATED:20251223T132831Z
LAST-MODIFIED:20251223T132952Z
UID:10004019-1894813200-1894820400@zeitgeist-braunsfeld.de
SUMMARY:Zeichnen für Einsteiger
DESCRIPTION:Einführung in die Kunst des Zeichnens.✍🏻 Mit verschiedenen Techniken und Malmaterialien zum eigenen Kunstwerk.   Kursleitung: Helga Helbig
URL:https://zeitgeist-braunsfeld.de/event/zeichnen-fuer-einsteiger-5-4-2/2030-01-16/
CATEGORIES:Kreativ,Kreativ,Kreativ - Treff
ATTACH;FMTTYPE=image/jpeg:https://zeitgeist-braunsfeld.de/wp-content/uploads/2024/01/crayons-2774504_1920.jpg
END:VEVENT
BEGIN:VEVENT
DTSTART;TZID=Europe/Berlin:20300123T100000
DTEND;TZID=Europe/Berlin:20300123T120000
DTSTAMP:20260421T101709
CREATED:20251223T131913Z
LAST-MODIFIED:20251223T132633Z
UID:10004166-1895392800-1895400000@zeitgeist-braunsfeld.de
SUMMARY:Offener Treff
DESCRIPTION:In Kooperation mit dem Senioren-Netzwerk-Braunsfeld\, laden wir jeden Mittwoch*) von 10:00 Uhr bis 12:00 Uhr zu einem offenen Treff in unseren Kulturraum ein. \nSchauen Sie vorbei\, der Offene Treff ist für alle offen\, auch für Nicht-Mitglieder! \nHier trifft man sich zum Verweilen und zum Gesprächsaustausch. \nWährend des Offenen Treffs haben Sie außerdem die Gelegenheit unsere aktuelle Ausstellung anzusehen. \nDen Besuch beim Offenen Treff kann man gut mit dem Einkauf mittwochs auf dem Braunsfelder Markt verbinden\, der mit Nahrungs- und Genussmitteln lockt. \nVorbeikommen                   Gespräche                           Kaffeepause                                    Ausstellung betrachten \n  \n*) nicht an Feiertagen
URL:https://zeitgeist-braunsfeld.de/event/offener-treff-2-2/2030-01-23/
CATEGORIES:Offener Treff,Treffen und Kurse
ATTACH;FMTTYPE=image/jpeg:https://zeitgeist-braunsfeld.de/wp-content/uploads/2023/08/Webaufnahme_8-8-2023_14139_.jpeg
END:VEVENT
END:VCALENDAR